BEGIN:VCALENDAR
VERSION:2.0
PRODID:-//Liikasten Sukuseura - ECPv6.15.20//NONSGML v1.0//EN
CALSCALE:GREGORIAN
METHOD:PUBLISH
X-WR-CALNAME:Liikasten Sukuseura
X-ORIGINAL-URL:https://liikastensukuseura.fi
X-WR-CALDESC:Tapahtumat Liikasten Sukuseura
REFRESH-INTERVAL;VALUE=DURATION:PT1H
X-Robots-Tag:noindex
X-PUBLISHED-TTL:PT1H
BEGIN:VTIMEZONE
TZID:Europe/Helsinki
BEGIN:DAYLIGHT
TZOFFSETFROM:+0200
TZOFFSETTO:+0300
TZNAME:EEST
DTSTART:20200329T010000
END:DAYLIGHT
BEGIN:STANDARD
TZOFFSETFROM:+0300
TZOFFSETTO:+0200
TZNAME:EET
DTSTART:20201025T010000
END:STANDARD
BEGIN:DAYLIGHT
TZOFFSETFROM:+0200
TZOFFSETTO:+0300
TZNAME:EEST
DTSTART:20210328T010000
END:DAYLIGHT
BEGIN:STANDARD
TZOFFSETFROM:+0300
TZOFFSETTO:+0200
TZNAME:EET
DTSTART:20211031T010000
END:STANDARD
BEGIN:DAYLIGHT
TZOFFSETFROM:+0200
TZOFFSETTO:+0300
TZNAME:EEST
DTSTART:20220327T010000
END:DAYLIGHT
BEGIN:STANDARD
TZOFFSETFROM:+0300
TZOFFSETTO:+0200
TZNAME:EET
DTSTART:20221030T010000
END:STANDARD
END:VTIMEZONE
BEGIN:VEVENT
DTSTART;TZID=Europe/Helsinki:20210918T120000
DTEND;TZID=Europe/Helsinki:20210918T160000
DTSTAMP:20260421T200658
CREATED:20210508T101946Z
LAST-MODIFIED:20210910T164649Z
UID:712-1631966400-1631980800@liikastensukuseura.fi
SUMMARY:Sukukokous 2021
DESCRIPTION:Tervehdys\, jäsenet! \n\n\n\nTervetuloa sukuseuran vuosikokoukseen Lahteen 18.9.2021 Viikinkiravintola Haraldiin. Osoite on Vesijärvenkatu 14\, 15140 LAHTI.  \n\n\n\nKokous alkaa ruokailun merkeissä klo 12. Tarjolla on kolme pääruokavaihtoehtoa. Hinta riippuu osallistujamäärästä oheisen pääruokavaihtoehdot-liitteen mukaisesti. Jokainen maksaa ruokailunsa itse paikan päällä.  \n\n\n\nRavintolan kabinettiin otetaan koronarajoitusten vuoksi enintään 25 henkeä\, mutta kokoukseen voi osallistua halutessaan myös etänä esimerkiksi Google Meetin välityksellä. Tilannetta katsotaan tarkemmin myöhemmin sen mukaan\, minkä verran etäosallistujia on tulossa. \n\n\n\nOhjelmassa on vuosikokouksen lisäksi ainakin uusien kotisivujen esittelyä\, DNA-katsaus ja huutokauppa\, jonka tuotot menevät sukuseuran DNA-tutkimukseen. Huutokauppatuotteet ja ”kerran vain” myynnissä olevat Anne Ekroosin keramiikkatuotteet esitellään oheisessa liitteessä. Myös keramiikkatuotteiden tuotot käytetään sukuseuran DNA-tutkimukseen.  \n\n\n\nKokouksessa voi ostaa myös sukuseuran tuttuja myyntituotteita. Ilmoita kuitenkin etukäteen\, mitä tuotteita haluat ostaa\, jotta saat varmasti haluamasi. \n\n\n\nMuistathan\, että tänäkään vuonna kokouksessa ei halailla eikä kätellä. Kokoukseen tullaan terveenä\, ja turvaväleistä pidetään huolta. Kaikille on tarjolla maskeja ja käsidesiä. \n\n\n\nIlmoittautumiset Olli Liikaselle mieluiten sähköpostilla viimeistään 31.8. Ilmoita samalla ruokavaliotoiveesi. Kerro myös\, oletko halukas osallistumaan kokoukseen etänä. Peruutukset henkilömäärärajoituksen vuoksi viimeistään 2.9.  \n\n\n\n\n\n\n\n\n\n\n\nView FullscreenSkip to PDF content\n\n\n\nView FullscreenSkip to PDF content
URL:https://liikastensukuseura.fi/tapahtuma/sukukokous-2021/
CATEGORIES:Sukukokous
ATTACH;FMTTYPE=image/jpeg:https://liikastensukuseura.fi/wp-content/uploads/2021/04/DSCN5067-scaled.jpg
END:VEVENT
END:VCALENDAR