BEGIN:VCALENDAR
VERSION:2.0
PRODID:-//Liikasten Sukuseura - ECPv6.15.20//NONSGML v1.0//EN
CALSCALE:GREGORIAN
METHOD:PUBLISH
X-ORIGINAL-URL:https://liikastensukuseura.fi
X-WR-CALDESC:Tapahtumat Liikasten Sukuseura
REFRESH-INTERVAL;VALUE=DURATION:PT1H
X-Robots-Tag:noindex
X-PUBLISHED-TTL:PT1H
BEGIN:VTIMEZONE
TZID:Europe/Helsinki
BEGIN:DAYLIGHT
TZOFFSETFROM:+0200
TZOFFSETTO:+0300
TZNAME:EEST
DTSTART:20200329T010000
END:DAYLIGHT
BEGIN:STANDARD
TZOFFSETFROM:+0300
TZOFFSETTO:+0200
TZNAME:EET
DTSTART:20201025T010000
END:STANDARD
BEGIN:DAYLIGHT
TZOFFSETFROM:+0200
TZOFFSETTO:+0300
TZNAME:EEST
DTSTART:20210328T010000
END:DAYLIGHT
BEGIN:STANDARD
TZOFFSETFROM:+0300
TZOFFSETTO:+0200
TZNAME:EET
DTSTART:20211031T010000
END:STANDARD
BEGIN:DAYLIGHT
TZOFFSETFROM:+0200
TZOFFSETTO:+0300
TZNAME:EEST
DTSTART:20220327T010000
END:DAYLIGHT
BEGIN:STANDARD
TZOFFSETFROM:+0300
TZOFFSETTO:+0200
TZNAME:EET
DTSTART:20221030T010000
END:STANDARD
END:VTIMEZONE
BEGIN:VEVENT
DTSTART;TZID=Europe/Helsinki:20211009T100000
DTEND;TZID=Europe/Helsinki:20211009T160000
DTSTAMP:20260421T182610
CREATED:20210919T073429Z
LAST-MODIFIED:20210919T095037Z
UID:1997-1633773600-1633795200@liikastensukuseura.fi
SUMMARY:Kuulutko sukuuni -tapahtuma
DESCRIPTION:Vantaan Seudun Sukututkijat ry järjestää 9.-10.10.2021 maksuttoman Kuulutko Sukuuni -tapahtuman. Koronapandemian vuoksi tapahtuma järjestetään tänä vuonna verkossa. \n\n\n\n\n\n\n\nLainaus järjestäjien sivulta: ”Nähtävää ja koettavaa löytyy kaikille sukuasioista kiinnostuneille\, niin aloittelijoille kuin vanhoille konkareillekin. Yleisöllä on tapahtumaan vapaa pääsy\, mutta osallistuminen vaatii ennakkorekisteröitymisen.” \n\n\n\n\n\n\n\nLinkki ilmoittautumiseen: https://kuulutkosukuuni.com/ilmoittautuminen-kuulutko-sukuuni-tapahtumaan/ \n\n\n\n \n\n\n\nTapahtuman ohjelma: https://kuulutkosukuuni.com/ohjelma/
URL:https://liikastensukuseura.fi/tapahtuma/kuulutko-sukuuni-tapahtuma/
CATEGORIES:Sukututkimustapahtuma
END:VEVENT
END:VCALENDAR