BEGIN:VCALENDAR
VERSION:2.0
PRODID:-//Liikasten Sukuseura - ECPv6.15.20//NONSGML v1.0//EN
CALSCALE:GREGORIAN
METHOD:PUBLISH
X-WR-CALNAME:Liikasten Sukuseura
X-ORIGINAL-URL:https://liikastensukuseura.fi
X-WR-CALDESC:Tapahtumat Liikasten Sukuseura
REFRESH-INTERVAL;VALUE=DURATION:PT1H
X-Robots-Tag:noindex
X-PUBLISHED-TTL:PT1H
BEGIN:VTIMEZONE
TZID:Europe/Helsinki
BEGIN:DAYLIGHT
TZOFFSETFROM:+0200
TZOFFSETTO:+0300
TZNAME:EEST
DTSTART:20220327T010000
END:DAYLIGHT
BEGIN:STANDARD
TZOFFSETFROM:+0300
TZOFFSETTO:+0200
TZNAME:EET
DTSTART:20221030T010000
END:STANDARD
BEGIN:DAYLIGHT
TZOFFSETFROM:+0200
TZOFFSETTO:+0300
TZNAME:EEST
DTSTART:20230326T010000
END:DAYLIGHT
BEGIN:STANDARD
TZOFFSETFROM:+0300
TZOFFSETTO:+0200
TZNAME:EET
DTSTART:20231029T010000
END:STANDARD
BEGIN:DAYLIGHT
TZOFFSETFROM:+0200
TZOFFSETTO:+0300
TZNAME:EEST
DTSTART:20240331T010000
END:DAYLIGHT
BEGIN:STANDARD
TZOFFSETFROM:+0300
TZOFFSETTO:+0200
TZNAME:EET
DTSTART:20241027T010000
END:STANDARD
END:VTIMEZONE
BEGIN:VEVENT
DTSTART;TZID=Europe/Helsinki:20230414T110000
DTEND;TZID=Europe/Helsinki:20230423T190000
DTSTAMP:20260420T150552
CREATED:20230415T095415Z
LAST-MODIFIED:20230415T101442Z
UID:5198-1681470000-1682276400@liikastensukuseura.fi
SUMMARY:Tiedoksi: Puutarhanäyttely Ritarihuoneella
DESCRIPTION:Tilaisuus tutustua Ritarihuoneeseen ja valmistautua kesän puutarhakauteen. Ritarihuone on merkittävä paikka Herman Liikasen tarinassa. Hän tutustui siellä 1863 valtiopäivillä aatelissäädyn liberaalisiipeä edustavaan Ernst Linderiin\, joka rahoitti hänen matkansa Tanskaan vapaustaistelijaksi. Kotiin palattuaan\, Herman Liikanen pääsi töihin Suomen Hypoteekkiyhdistykseen\, jonka toimisto sijaitsi Ritarihuoneella\, esimiehenään J.V. Snellman\, joka puolestaan oli fennomaaniliikkeen johtohahmo. \n\n\n\nJärjestäjien kuvaus: Tervetuloa Ritarihuoneelle Helsinkiin aikamatkalle kartanoiden puistoihin ja puutarhoihin. 10 päivän ajan huhtikuussa sinulla on ainutlaatuinen tilaisuus kokea vihreyttä ja historian havinaa kaikilla aisteillasi. Näyttely nostaa esille rikkaan ja mielenkiintoisen osan kartanoiden historiaa\, jota vaalitaan aktiivisesti monilla tiloilla vielä tänäkin päivänä. Tervetuloa avaamaan puutarhakausi 2023 mitä parhaimmalla tavalla. \n\n\n\n14. – 23. huhtikuuta 2023\, auki päivittäin klo 11.00-19.00Näyttely: 15 € per henkilö12-vuotiaat ja nuoremmat vapaa pääsyHUOM! Museokortti ei käy maksuvälineenä \n\n\n\nLiput ennakoon osoitteesta afuf.fi \n\n\n\nOpastus max 15 henkilön ryhmälle 60 €\, opastuksen kesto noin 30 min. \n\n\n\nVaraukset sähköpostitse: info@afuf.fiEsitelmät: \n\n\n\nKlo 18.00 arkipäivisinKlo 15.00 viikonloppuisin \n\n\n\nLiput 15€ / esitelmäYhdistelmälippu 25€ näyttely ja esitelmä \n\n\n\nEsitelmät järjestetään Ritarihuoneen kirjastossa\, ensimmäisessä kerroksessa. \n\n\n\nOhjelma ja aikataulu https://afuf.fi/fi/nayttely/Näyttelyn yhteydessä järjestetään kahvilatoimintaa.Torilla on mahdollisuus hankkia näyttelyyn osallistuvien kartanoiden tai yhteistyökumppaneiden tuotteita. Myös yrityssponsoreilla on tuotteita myynnissä.Näyttelyyn on esteetön pääsy. Pyörätuolilla pääsee näyttelytilaan Ritarihuoneen henkilöstön avustamana. Ota yhteyttä kansliaan\, puh: +358 10 411 7260 saadaksesi lisätietoja. Avustajille on näyttelyyn vapaa pääsy.Ulkovaatteet saa jättää vaatesäilytykseen\, joka sijaitsee Ritarihuoneen sisäänkäynnin yhteydessä. Vaatesäilytys ei ole valvottu.Lemmikit eivät ole sallittuja näyttelytilassa!Suuri osa viherkasveista\, ruukuista yms.\, jotka koristavat näyttelytilaa\, ovat myynnissä ja voidaan varata näyttelyn aikana. Nouto sunnuntaina 23.4 klo 17-20 tai maanantaina 24.4 klo 10-16.https://afuf.fi/fi/nayttely/ \n\n\n\nSuurin osa käytetyistä materiaaleista on joko kierrätettäviä\, vuokrattuja tai lainattuja. Mikäli joku tietty esine tai materiaali kiinnostaa\, ole yhteydessä näyttelyn henkilökuntaan tai info@afuf.fi \n\n\n\nKysymykset näyttelystä ja käytännön järjestelyistä voi mielellään lähettää sähköpostitse info@afuf.fi
URL:https://liikastensukuseura.fi/tapahtuma/tiedoksi-puutarhanayttely-ritarihuoneella/
END:VEVENT
END:VCALENDAR